BEGIN:VCALENDAR
VERSION:2.0
PRODID:SchoolNow
CALSCALE:GREGORIAN
BEGIN:VEVENT
UID:28874750-3dce-11f1-adb3-02b10f4c676b
DTSTAMP:20260424T105507Z
SUMMARY:Titan Academic Reception
LOCATION:Meida Center
URL;VALUE=URI:https://www.sbepschools.org/calendar/9010219/titan-academic-r
 eception
DTSTART:20260512T220000Z
DTEND:20260512T233000Z
END:VEVENT
END:VCALENDAR
