BEGIN:VCALENDAR
VERSION:2.0
PRODID:SchoolNow
CALSCALE:GREGORIAN
BEGIN:VEVENT
UID:32d960a2-3d02-11f1-bf1b-0eb4156582dd
DTSTAMP:20260421T035007Z
SUMMARY:Jr./Sr. Prom at the Woodward Theater
URL;VALUE=URI:https://www.sbepschools.org/calendar/9008055/jr-sr-prom-at-th
 e-woodward-theater
DTSTART:20260424T230000Z
DTEND:20260425T030000Z
END:VEVENT
END:VCALENDAR
