BEGIN:VCALENDAR
VERSION:2.0
PRODID:SchoolNow
CALSCALE:GREGORIAN
BEGIN:VEVENT
UID:d54fa44c-0c13-11f1-8352-0a58a9feac02
DTSTAMP:20260422T162015Z
SUMMARY:Spring Break - No School
URL;VALUE=URI:https://www.sbepschools.org/calendar/8857715/spring-break-no-
 school
DTSTART;VALUE=DATE:20260330
DTEND;VALUE=DATE:20260407
END:VEVENT
END:VCALENDAR
